BEGIN:VCALENDAR
CALSCALE:GREGORIAN
METHOD:PUBLISH
VERSION:2.0
PRODID:-//iCalWriter OpenSource Project//iCalWriter 0.8.1//EN
BEGIN:VEVENT
DTSTAMP:20260419T144613Z
UID:1776609973Fzd9@www.schoenebeck.de
DTSTART:20250523T140000
DTEND;VALUE=DATE:20250523
SUMMARY:Brunnenfest
DESCRIPTION:Wir freuen uns auf das 8. Stadt- und Brunnenfest vom 23.05. bis 25.05.2025 in Schönebeck. Das Festwochenende steht ganz im Zeichen der Familie. Neben Frühschoppen, Nachmittags- und Abendveranstaltungen auf der Hauptbühne am Marktbrunnen zieht sich die Feiermeile über die Elbstraße hinunter bis zur Salzblume an der Uferpromenade. Auf dem Salzblumenplatz wunderschön direkt an der Elbe gelegen erleben die Gäste des Festes den ELBRUMMEL mit rasanten Karussells, Versorgern. Zwischen Markt und Salzblume erwartet die Besucher eine Händlermeile mit tollen Marktangeboten.
Start ist am Freitag um 14 Uhr mit dem Wechsel zwischen „Tagelöhner“ und „Smoke&Harmony“. Nach der Eröffnung gibt es „als erstes Bonbon“, wie Carsten Mende sagte, die Akrobatik-Show der Turnerinnen von Union Schönebeck. Die Moderation übernimmt an allen drei Tagen Susi Platte. „Sie gehört schon zum Brunnenfest dazu.“ Abends tritt die Partyband Atemlos auf.
LOCATION:Marktplatz Schönebeck 
		39218 Schönebeck (Elbe)
	
URL:https://www.schoenebeck.de/de/veranstaltungsdetail/event/92484,1274/brunnenfest-23-05-2025.html
ATTACH:https://www.schoenebeck.de/de/datei/anzeigen/id/92485,1274/brunnenfest2025.jpg
END:VEVENT
END:VCALENDAR
