BEGIN:VCALENDAR
CALSCALE:GREGORIAN
METHOD:PUBLISH
VERSION:2.0
PRODID:-//iCalWriter OpenSource Project//iCalWriter 0.8.1//EN
BEGIN:VEVENT
DTSTAMP:20260425T173110Z
UID:1777138270aOIa@www.schoenebeck.de
DTSTART:20240531T090000
DTEND:20240531T230000
SUMMARY:25 Jahre Solequell
DESCRIPTION:Gleich im Foyer werden alle Besucher mit zahlreichen Aktionen und Attraktionen empfangen. Erinnerungsfotos aus der Fotobox, Gesundheitsaktionen mit der IKK gesundplus, ein Smoothie Bike für leckere Erfrischungen aber auch Spiel und Spaß für die jüngeren Gäste wie Kinderschminken und Kindertattoos sind geplant.
Ab 9.00 Uhr öffnet sich auch die Sauna- und Badelandschaft und bietet stündlich wechselnde Aktionen wie z.B. Aquafitness, aromatische und abwechslungsreiche Aufgüsse, fruchtige Überraschungen und Schnupperaktionen aus den Bereichen Wellness und Entspannung.
Ab 21.00 Uhr öffnet sich die Badelandschaft zu einem FKK-Bereich: Im gesamten Bad darf dann bis 23.00 Uhr textilfrei gebadet werden. Auch all jene, die dem Saunieren nichts abgewinnen können, dürfen von dem Angebot gerne Gebrauch machen und ausschließlich zum „Nacktbaden“ in den „Solequell“ Bad Salzelmen kommen.
Für das leibliche Wohl wird auf der Liegewiese im Außenbereich des Bades gesorgt. Ab 12.00 Uhr werden Grillspezialitäten, Erfrischungsgetränke und weitere Köstlichkeiten angeboten.
Das Solequell freut sich auf einen abwechslungsreichen Aktionstag mit allen Besuchern.
LOCATION:Solequell Bad Salzemen 
		39218 Schönebeck (Elbe)
	
SOLEPARK Schönebeck/Bad Salzelmen 39218 Schönebeck (Elbe)
URL:https://www.schoenebeck.de/de/veranstaltungsdetail/event/73067,1274/25-jahre-solequell-31-05-2024.html
ATTACH:https://www.schoenebeck.de/de/datei/anzeigen/id/74458,1274/solequell_aussen.jpg
END:VEVENT
END:VCALENDAR
