BEGIN:VCALENDAR
CALSCALE:GREGORIAN
METHOD:PUBLISH
VERSION:2.0
PRODID:-//iCalWriter OpenSource Project//iCalWriter 0.8.1//EN
BEGIN:VEVENT
DTSTAMP:20260420T032326Z
UID:1776655406IdMO@www.schoenebeck.de
DTSTART:20240817T190000
DTEND;VALUE=DATE:20240817
SUMMARY:Konzert
DESCRIPTION:Biber Hermann (Songwriter Gesang und Gitarre)
- St. Johannis-Kirche Bad Salzelmen
VA: Kirchbauverein Schönebeck(Bad Salzelmen)
 
LOCATION:St. Johanniskirche 
		39218 Schönebeck (Elbe)
	
URL:https://www.schoenebeck.de/de/veranstaltungsdetail/event/63178,1274/konzert-17-08-2024.html
ATTACH:https://www.schoenebeck.de/de/datei/anzeigen/id/77722,1274/va_biber_herrmann..jpg
END:VEVENT
END:VCALENDAR
