BEGIN:VCALENDAR
CALSCALE:GREGORIAN
METHOD:PUBLISH
VERSION:2.0
PRODID:-//iCalWriter OpenSource Project//iCalWriter 0.8.1//EN
BEGIN:VEVENT
DTSTAMP:20260424T001644Z
UID:1776989804oh9H@www.schoenebeck.de
DTSTART:20231004T150000
DTEND;VALUE=DATE:20231004
SUMMARY:Schnuppertag
DESCRIPTION:Die Kita "Haus der kleinen Stifte" in Plötzky lädt  am Mittwoch, 4. Oktober 2023, zum Schnuppernachmittag ein. In der Zeit von 15 bis 16 Uhr besteht für interessierte Eltern die Möglichkeit, gemeinsam mit ihrem Kind die Einrichtung zu besuchen. Sie haben die Gelegenheit, die Räumlichkeiten und Spielmaterialien in der Krippe zu entdecken.
Der Schnuppernachmittag findet jeden ersten Mittwoch im Monat in den Räumlichkeiten von den "Roten Stiften" (Kinderkrippe) statt und wird durch eine Erzieherin der Einrichtung begleitet.
AdresseKita "Haus der kleinen Stifte"Friedhofsweg 439217 PlötzkyTel.: 039200/51923E-Mail: Kita.Haus-der-kleinen-Stifte@schoenebeck.de
LOCATION:Kita "Haus der kleinen Stifte" 39217 Schönebeck (Elbe) / Plötzky
URL:https://www.schoenebeck.de/de/veranstaltungsdetail/event/60893,1274/schnuppertag-04-10-2023.html
ATTACH:https://www.schoenebeck.de/de/datei/anzeigen/id/60894,1274/schnuppertag2023.jpg
END:VEVENT
END:VCALENDAR
