BEGIN:VCALENDAR
CALSCALE:GREGORIAN
METHOD:PUBLISH
VERSION:2.0
PRODID:-//iCalWriter OpenSource Project//iCalWriter 0.8.1//EN
BEGIN:VEVENT
DTSTAMP:20260425T000533Z
UID:1777075533mPeI@www.schoenebeck.de
DTSTART:20230617T170000
DTEND:20230617T193000
SUMMARY:Konzert
DESCRIPTION:Bella Italia
Programm mit stimmungsvollen Werken italienischer Komponisten.Sinfonieorchester Magdeburger Musikfreunde Solist: Florian Bischof (Cello)Leitung: Gero Wiest
LOCATION:St.-Jakobi-Kirche 
		39218 Schönebeck (Elbe)
	
URL:https://www.schoenebeck.de/de/veranstaltungsdetail/event/56950,1274/konzert-17-06-2023.html
ATTACH:https://www.schoenebeck.de/de/datei/anzeigen/id/56951,1274/sommf-2022-11-20-karin-puppe-1a.jpg
END:VEVENT
END:VCALENDAR
