BEGIN:VCALENDAR
CALSCALE:GREGORIAN
METHOD:PUBLISH
VERSION:2.0
PRODID:-//iCalWriter OpenSource Project//iCalWriter 0.8.1//EN
BEGIN:VEVENT
DTSTAMP:20260422T223117Z
UID:1776897077rPhv@www.schoenebeck.de
DTSTART:20231023T193000
DTEND;VALUE=DATE:20231023
SUMMARY:Nachtwächterrundgang
DESCRIPTION:„Die Uhr hat nun geschlagen, was ich so tu, das will ich euch sagen...“. Mit diesem Ruf beginnt der Schönebecker Nachtwächter seinen Rundgang. Standesgemäß gekleidet in Gewandung, Hellebarde, Signalhorn berichtet der Nachtwächter über das damalige Geschehen der Stadt, über das Leben des Wächters und führt durch Gassen zu den schönsten Sehenswürdigkeiten. Im alten Pfännerturm gibt es den Nachtwächter Tropfen. Im Anschluss entlässt Sie der Nachtwächter in die heutige Zeit mit dem Nachtruf: „Hört ihr Leut und lasst euch sagen,...“.
Informationen
Treffpunkt: Hexenhügel - Reha-Klinik, Badepark, 39218 Schönebeck - Bad Salzelmen
Programm:
Führung mit dem NachtwächterEinblick / Besichtigung des PfännerturmVerkostung des Nachtwächter Tropfen (Likör)Ende: Reha-Klinik, Badepark 5, 39218 Schönebeck - Bad Salzelmen
Kosten: 13,50 € (Erwachsene), 7,00 € Kinder (7-17 Jahre)
Strecke: ca. 1,5 Km (Eingeschränkt barrierefrei: Kopfsteinpflaster und Treppenaufstieg zum Pfännerturm)
Sprache: Deutsch
Anmeldung: Vorab über die Genuss & Erlebnismanufaktur Lammel erforderlich! Keine Rücknahme oder Auszahlung der Karten!
 
Anmeldung & TicketsGenuss & Erlebnismanufaktur LammelTel: 03928 7680422E-Mail: info@manufaktur-lammel.de
 
...weiteres
Individuelle Erlebnisführung für Gruppen. Buchungsanfragen über die Genuss & Erlebnismanufaktur Lammel.
Es gelten die AGB der Genuss & Erlebnismanufaktur Lammel. Alle Preise inkl. gültiger MwSt.
Text & Foto: Genuss & Erlebnismanufaktur Lammel l Änderungen vorbehalten.
LOCATION:Hexenhügel - Reha-Klinik 
		39218 Schönebeck (Elbe)
	
URL:https://www.schoenebeck.de/de/veranstaltungsdetail/event/54861,1274/nachtwaechterrundgang-23-10-2023.html
ATTACH:https://www.schoenebeck.de/de/datei/anzeigen/id/54862,1274/ohf_3229_bearbeitet.jpg
END:VEVENT
END:VCALENDAR
