BEGIN:VCALENDAR
CALSCALE:GREGORIAN
METHOD:PUBLISH
VERSION:2.0
PRODID:-//iCalWriter OpenSource Project//iCalWriter 0.8.1//EN
BEGIN:VEVENT
DTSTAMP:20260423T113809Z
UID:1776944289EIa6@www.schoenebeck.de
DTSTART:20231028T200000
DTEND;VALUE=DATE:20231028
SUMMARY:Zauber der Travestie
DESCRIPTION:Erneut gastiert die bekannte Revue „Zauber der Travestie“ am 28.10.2023 im Dr.-Tolberg-Saal in Schönebeck/Bad Salzelmen.
Beginn:  20:00 Uhr
Einlass: 19:00 Uhr
Der Kartenvorverkauf läuft bereits in beiden Stadtinformationen:
Schönebeck(Elbe), Markt 21:                       Tel:  (3928) 84 27 42
In Bad Salzelmen (Rotes Haus):       Tel: (03928) 70 55 55
VVK :                         27,50 €ermäßigt:                   26,50 €
LOCATION:Dr.-Tolberg-Saal Bad Selzelmen 
		39218 Schönebeck (Elbe)
	
URL:https://www.schoenebeck.de/de/veranstaltungsdetail/event/53839,1274/zauber-der-travestie-28-10-2023.html
ATTACH:https://www.schoenebeck.de/de/datei/anzeigen/id/53840,1274/0533_001.jpg
END:VEVENT
END:VCALENDAR
